BEGIN:VCALENDAR
VERSION:2.0
PRODID:-//The DONNA Foundation - ECPv6.15.20//NONSGML v1.0//EN
CALSCALE:GREGORIAN
METHOD:PUBLISH
X-ORIGINAL-URL:https://thedonnafoundation.org
X-WR-CALDESC:Events for The DONNA Foundation
REFRESH-INTERVAL;VALUE=DURATION:PT1H
X-Robots-Tag:noindex
X-PUBLISHED-TTL:PT1H
BEGIN:VTIMEZONE
TZID:America/New_York
BEGIN:DAYLIGHT
TZOFFSETFROM:-0500
TZOFFSETTO:-0400
TZNAME:EDT
DTSTART:20230312T070000
END:DAYLIGHT
BEGIN:STANDARD
TZOFFSETFROM:-0400
TZOFFSETTO:-0500
TZNAME:EST
DTSTART:20231105T060000
END:STANDARD
BEGIN:DAYLIGHT
TZOFFSETFROM:-0500
TZOFFSETTO:-0400
TZNAME:EDT
DTSTART:20240310T070000
END:DAYLIGHT
BEGIN:STANDARD
TZOFFSETFROM:-0400
TZOFFSETTO:-0500
TZNAME:EST
DTSTART:20241103T060000
END:STANDARD
BEGIN:DAYLIGHT
TZOFFSETFROM:-0500
TZOFFSETTO:-0400
TZNAME:EDT
DTSTART:20250309T070000
END:DAYLIGHT
BEGIN:STANDARD
TZOFFSETFROM:-0400
TZOFFSETTO:-0500
TZNAME:EST
DTSTART:20251102T060000
END:STANDARD
BEGIN:DAYLIGHT
TZOFFSETFROM:-0500
TZOFFSETTO:-0400
TZNAME:EDT
DTSTART:20260308T070000
END:DAYLIGHT
BEGIN:STANDARD
TZOFFSETFROM:-0400
TZOFFSETTO:-0500
TZNAME:EST
DTSTART:20261101T060000
END:STANDARD
BEGIN:DAYLIGHT
TZOFFSETFROM:-0500
TZOFFSETTO:-0400
TZNAME:EDT
DTSTART:20270314T070000
END:DAYLIGHT
BEGIN:STANDARD
TZOFFSETFROM:-0400
TZOFFSETTO:-0500
TZNAME:EST
DTSTART:20271107T060000
END:STANDARD
END:VTIMEZONE
BEGIN:VEVENT
DTSTART;TZID=America/New_York:20260130T080000
DTEND;TZID=America/New_York:20260201T170000
DTSTAMP:20260424T033648
CREATED:20250707T111917Z
LAST-MODIFIED:20260323T145314Z
UID:10000097-1769760000-1769965200@thedonnafoundation.org
SUMMARY:DONNA Marathon Weekend 2026
DESCRIPTION:Join thousands of runners\, survivors\, families\, and supporters as we return to the City of Jacksonville and the Beaches of Northeast Florida for a world-class endurance event that does more than test limits — it changes lives. \nThe 19th Annual DONNA Marathon Weekend will include: \n\n5K\nDONNA Dash\nHalf Marathon\nMarathon\nUltramarathon\nEvent Challenges\nHealth & Wellness Expo\n\nMore information and to register visit BreastCancerMarathon.com.
URL:https://thedonnafoundation.org/event/donna-marathon-weekend-2026-2/
LOCATION:Seawalk Pavillion\, 75 1st St N\, Jacksonville\, 32250\, United States
CATEGORIES:DONNA Official Event,Marathon Weekend
ATTACH;FMTTYPE=image/jpeg:https://thedonnafoundation.org/wp-content/uploads/2025/07/DON-DMW2026.jpg
END:VEVENT
BEGIN:VEVENT
DTSTART;TZID=America/New_York:20251011T080000
DTEND;TZID=America/New_York:20251011T120000
DTSTAMP:20260424T033648
CREATED:20250602T172107Z
LAST-MODIFIED:20250602T172107Z
UID:10000296-1760169600-1760184000@thedonnafoundation.org
SUMMARY:DONNA 5K at TPC Sawgrass
DESCRIPTION:The 18th Running of DONNA 5K at TPC Sawgrass will be the highlight of breast cancer awareness month Saturday\, October 11\, 2025. This family-friendly event celebrates survivorship and raises funds to finish breast cancer through the programs of The DONNA Foundation. We welcome runners and walkers of all levels to experience the most beautiful 5K at the PLAYERS Stadium Course at TPC Sawgrass. Virtual options are also available.
URL:https://thedonnafoundation.org/event/donna-5k-at-tpc-sawgrass-2/
CATEGORIES:DONNA Official Event
ATTACH;FMTTYPE=image/png:https://thedonnafoundation.org/wp-content/uploads/2025/06/DONNATPC-EventDetail-1000x600-1.png
END:VEVENT
BEGIN:VEVENT
DTSTART;TZID=America/New_York:20250510T080000
DTEND;TZID=America/New_York:20250510T120000
DTSTAMP:20260424T033648
CREATED:20250225T103358Z
LAST-MODIFIED:20250225T103358Z
UID:10000291-1746864000-1746878400@thedonnafoundation.org
SUMMARY:DONNA Mother's Day 5K with Public Forum on Breast Health presented by UF Health
DESCRIPTION:DONNA Mother’s Day 5K celebrates every Mom and returns in 2025 at the historic Friday Musicale in the Riverside area of Jacksonville\, Florida. NEW this year\, the UF Health Breast Center is bringing its popular Public Forum directed by Dr. Shahla Masood to the day’s festivities offering “What Everyone Should Know About Breast Health” over a free brunch immediately following the race inside Friday Musicale. \nLEARN MORE   REGISTER \n 
URL:https://thedonnafoundation.org/event/donna-mothers-day-5k-with-public-forum-on-breast-health-presented-by-uf-health/
CATEGORIES:DONNA Official Event
ATTACH;FMTTYPE=image/png:https://thedonnafoundation.org/wp-content/uploads/2025/02/TDF-Event-detail-Image-1.png
END:VEVENT
BEGIN:VEVENT
DTSTART;VALUE=DATE:20250131
DTEND;VALUE=DATE:20250203
DTSTAMP:20260424T033648
CREATED:20240621T125632Z
LAST-MODIFIED:20240621T125632Z
UID:10000268-1738281600-1738540799@thedonnafoundation.org
SUMMARY:2025 DONNA Marathon Weekend
DESCRIPTION:DONNA Marathon Weekend returns January 31 – February 2\, 2025. This year’s theme\, Destination Fearless\, is a celebration of love over fear\, a reminder that we are stronger and braver than we ever thought. Just as runners overcome the physical demands of the race\, breast cancer patients and their families face the unknown with bravery\, supported by The DONNA Foundation. Because every step we take together\, every mile we complete\, is a step toward embracing a life of hope. A life fearless. Welcome to DONNA Marathon Weekend 2025. \nRegistration opens July 1!
URL:https://thedonnafoundation.org/event/2025-donna-marathon-weekend/
CATEGORIES:DONNA Official Event
ATTACH;FMTTYPE=image/jpeg:https://thedonnafoundation.org/wp-content/uploads/2023/04/dmw-detail.jpg
END:VEVENT
BEGIN:VEVENT
DTSTART;TZID=America/New_York:20241026T070000
DTEND;TZID=America/New_York:20241026T080000
DTSTAMP:20260424T033648
CREATED:20240926T125714Z
LAST-MODIFIED:20240926T125714Z
UID:10000284-1729926000-1729929600@thedonnafoundation.org
SUMMARY:DONNA Half-Marathon Training Program Kick-off
DESCRIPTION: Participate in Jacksonville or check out the website for locations around the country.\nJeff Galloway Training is the official training program for DONNA. Jeff Galloway’s Marathon and Half-Marathon Training Programs are for all levels of runners\, from beginning runners to Boston qualifiers.\nThis low-mileage\, injury-free training program is for those who have jobs\, families\, and a life!
URL:https://thedonnafoundation.org/event/donna-half-marathon-training-program-kick-off/
CATEGORIES:DONNA Official Event
ATTACH;FMTTYPE=image/jpeg:https://thedonnafoundation.org/wp-content/uploads/2024/09/Galloway.jpg
END:VEVENT
BEGIN:VEVENT
DTSTART;TZID=America/New_York:20241008T190000
DTEND;TZID=America/New_York:20241008T200000
DTSTAMP:20260424T033648
CREATED:20240923T160948Z
LAST-MODIFIED:20240923T160948Z
UID:10000275-1728414000-1728417600@thedonnafoundation.org
SUMMARY:Fitz Show with Mayor Donna Deegan - BCAM Kick-off!
DESCRIPTION:Join us for the Fitz Show with a very special guest\, Mayor Donna Deegan\, on Tuesday\, October 8 at 7 PM – the first in a series of workshops designed to elevate your Team DONNA Fundraiser Experience! \nDuring this live online event\, you’ll hear directly from our Founder\, Mayor Donna Deegan\, as she shares the inspiring “origin” story of The DONNA Foundation and its mission to support families facing breast cancer. \nFollowing Donna’s talk\, Fitz and Executive Director Amanda Napolitano will dive into all the exciting ways you can support The DONNA Foundation throughout Breast Cancer Awareness Month\, including details about the upcoming DONNA 5K at TPC Sawgrass and how you can get involved! \nWhat to Expect: \n\nLearn the history and heart behind The DONNA Foundation\nGet the inside scoop on fundraising tips and incentives\nDiscover how you can make an impact during Breast Cancer Awareness Month\nAll the details you need to participate in the DONNA 5K at TPC Sawgrass\n\nWhether you’re new to Team DONNA or a seasoned supporter\, this workshop will provide you with everything you need to maximize your fundraising experience and help us finish breast cancer. \nDate: Tuesday\, October 8\nTime: 7 PM\nLocation: Online (join us live!)\nCost: Free \nLet’s unite\, inspire\, and make a difference together! 💖 \n#DestinationFearless #TeamDONNA #FundraiserExperience #BreastCancerAwareness #DONNA5K #FinishBreastCancer #FitzShow
URL:https://thedonnafoundation.org/event/fitz-show-with-mayor-donna-deegan-bcam-kick-off/
CATEGORIES:DONNA Official Event
ATTACH;FMTTYPE=image/jpeg:https://thedonnafoundation.org/wp-content/uploads/2024/09/1920x1005.jpg
END:VEVENT
BEGIN:VEVENT
DTSTART;TZID=America/New_York:20241005T070000
DTEND;TZID=America/New_York:20241005T080000
DTSTAMP:20260424T033648
CREATED:20240923T161535Z
LAST-MODIFIED:20240923T161535Z
UID:10000276-1728111600-1728115200@thedonnafoundation.org
SUMMARY:Run with DONNA: Community Shakeout Run
DESCRIPTION:🏃‍♀️ Calling all Jacksonville Run Clubs! 🏃‍♂️ \nJoin us for a Community Shakeout Run as we kick off Breast Cancer Awareness Month in style! Let’s come together as one running community for this special event\, starting at the iconic Lemon Bar in Neptune Beach. \nDate: Saturday\, October 5\nTime: 7:00 AM\nLocation: Lemon Bar\, Neptune Beach\nCost: Free and open to all! \nSpecial guest Mayor Donna Deegan will be there alongside all your running friends to lead this incredible event. We’re also thrilled to welcome Rey Smart\, a London-based influencer and fitness enthusiast\, who will be capturing footage and leading an energizing warm-up session. Let’s show Rey and the world just how amazing the Jacksonville running community is! 🌟 \nRun Clubs: Set your own distance and course for your group – whether it’s a fun run or something more challenging\, the choice is yours! \nLet’s lace up\, run together\, and kick off Breast Cancer Awareness Month with strength and unity. 💖 \n📢 Spread the word\, tag your friends\, and let’s make this an unforgettable morning! \n#RunWithDonna #ShakeoutRun #BreastCancerAwareness #JacksonvilleRuns
URL:https://thedonnafoundation.org/event/run-with-donna-community-shakeout-run/
CATEGORIES:DONNA Official Event
ATTACH;FMTTYPE=image/jpeg:https://thedonnafoundation.org/wp-content/uploads/2024/09/DON-24201_CommunityShakeout_1920x1005.jpg
END:VEVENT
BEGIN:VEVENT
DTSTART;VALUE=DATE:20241001
DTEND;VALUE=DATE:20250203
DTSTAMP:20260424T033648
CREATED:20240926T125218Z
LAST-MODIFIED:20240926T125218Z
UID:10000283-1727740800-1738540799@thedonnafoundation.org
SUMMARY:DONNA 110 Mile-A-Day Challenge
DESCRIPTION:Beginning October 1\, 2024\, challenge yourself and your friends and family to walk one mile per day for 110 days\, finishing up just in time for the 2025 DONNA Marathon Weekend in February.\nDONNA 110 Mile-A-Day participants receive: Finisher’s Medal Gender Sized Finisher’s Shirt Keepsake Race Bib
URL:https://thedonnafoundation.org/event/donna-110-mile-a-day-challenge-2/
CATEGORIES:DONNA Official Event
ATTACH;FMTTYPE=image/jpeg:https://thedonnafoundation.org/wp-content/uploads/2024/09/MileADay.jpg
END:VEVENT
END:VCALENDAR